Workbook

Sheet Rekapitulácia
A2: Rekapitulácia rozpočtu | F2: Sadzby DPH
A3: Stavba: Kanalizácia a ČOV Soľ, 2 et.- Rozširenie kanalizácie Soľ | F3: A | G3: B
F4: 0.2 | G4: 0
A6: Názov objektu | B6: ZRN | C6: VRN % | D6: HZS | E6: Kompl.čin. | F6: Ost. náklady | G6: Cena
A7: Objekt: SO1.1 Kanalizačná sieť Soľ | B7: ='SO 6037'!I99-Rekapitulácia!D7 -> 0 | C7: ='Kryci_list 6037'!J26 -> 0 | D7: 0 | E7: ='Kryci_list 6037'!J17 -> 0 | F7: 0 | G7: =B7+C7+D7+E7+F7 -> 0 | K7: ='SO 6037'!K99 -> 0 | Q7: 30.126
A8: Celkom bez DPH | B8: =SUM(B7:B7) -> 0 | C8: =SUM(C7:C7) -> 0 | D8: =SUM(D7:D7) -> 0 | E8: =SUM(E7:E7) -> 0 | F8: =SUM(F7:F7) -> 0 | G8: =SUM(G7:G7)-SUM(Z7:Z7) -> 0
A9: DPH 20% z | B9: =G8-SUM(Rekapitulácia!K7:'Rekapitulácia'!K7)*1 -> 0 | G9: =ROUND(((ROUND(B9,2)*20)/100),2)*1 -> 0
A10: DPH 0% z | B10: =(G8-B9) -> 0 | G10: =ROUND(((ROUND(B10,2)*0)/100),2) -> 0
A11: Celkom v EUR | G11: =SUM(G8:G10) -> 0

Sheet Krycí list stavby
F1: Krycí list stavby | W1: 30.126
B2: Stavba: Kanalizácia a ČOV Soľ, 2 et.- Rozširenie kanalizácie Soľ
I3: Miesto:
I4: Ks:
B5: Zákazka: | F5: Spracoval: | I5: Dňa | J5: 10.09.2020
B6: Odberateľ: Obec Soľ
B7: IČO: | G7: DIČ:
B8: Projektant:
B9: IČO: | G9: DIČ:
B10: Dodávateľ:
B11: IČO: | G11: DIČ:
B15: A | C15: ZRN | D15: Montáž | E15: Materiál | F15: ZRN spolu | G15: B | H15: Ďalšie náklady
B16: 1 | C16: HSV | D16: ='Kryci_list 6037'!D16 -> 0 | E16: ='Kryci_list 6037'!E16 -> 0 | F16: ='Kryci_list 6037'!F16 -> 0 | G16: 6 | J16: =Rekapitulácia!F8 -> 0
B17: 2 | C17: PSV | D17: ='Kryci_list 6037'!D17 -> 0 | E17: ='Kryci_list 6037'!E17 -> 0 | F17: ='Kryci_list 6037'!F17 -> 0 | G17: 7 | H17: Kompletačná činnosť | J17: =Rekapitulácia!E8 -> 0
B18: 3 | C18: MONT | D18: ='Kryci_list 6037'!D18 -> 0 | E18: ='Kryci_list 6037'!E18 -> 0 | F18: ='Kryci_list 6037'!F18 -> 0 | G18: 8 | H18: HZS | J18: =Rekapitulácia!D8 -> 0
B19: 4 | C19: VRN | D19: ='Kryci_list 6037'!D19 -> 0 | E19: ='Kryci_list 6037'!E19 -> 0 | F19: ='Kryci_list 6037'!F19 -> 0 | G19: 9
B20: 5 | C20: Spolu | F20: =SUM(F16:F19) -> 0 | G20: 10 | H20: Spolu | J20: =SUM(J16:J19) -> 0
B21: C | C21: VRN | G21: D | H21: VRN
B22: 11 | C22: Zariadenie staveniska | F22: ='Kryci_list 6037'!F22 -> 0 | G22: 16 | H22: Sťažené podmienky dopravy | J22: ='Kryci_list 6037'!J22 -> 0
B23: 12 | C23: Sťažené výrobné podmienky | F23: ='Kryci_list 6037'!F23 -> 0 | G23: 17 | H23: Horské oblasti | J23: ='Kryci_list 6037'!J23 -> 0
B24: 13 | C24: Prevádzkové vplyvy | F24: ='Kryci_list 6037'!F24 -> 0 | G24: 18 | H24: Mimostavenisková doprava | J24: ='Kryci_list 6037'!J24 -> 0
B25: 14 | G25: 19
B26: 15 | G26: 20 | H26: Spolu | J26: =SUM(J22:J25)+SUM(F22:F25) -> 0
C27: Projektant,rozpočtár | G27: E | H27: Celkové náklady
G28: 21 | H28: Súčet riadkov 5,10,15,20 | J28: =F20+J20+F26+J26 -> 0
G29: 22 | H29: DPH 20% z | I29: =Rekapitulácia!B9 -> 0 | J29: =ROUND(((ROUND(I29,2)*20)/100),2)*1 -> 0
G30: 23 | H30: DPH 0% z | I30: =Rekapitulácia!B10 -> 0 | J30: =ROUND(((ROUND(I30,2)*0)/100),2) -> 0
G31: 24 | H31: Spolu v EUR | J31: =SUM(J28:J30) -> 0
G32: F
D33: Odberateľ | H33: Dodávateľ

Sheet Kryci_list 6037
F1: Krycí list rozpočtu | W1: 30.126
B2: Stavba: Kanalizácia a ČOV Soľ, 2 et.- Rozširenie kanalizácie Soľ
B3: Objekt: SO1.1 Kanalizačná sieť Soľ | I3: Miesto:
I4: Ks:
B5: Zákazka: | F5: Spracoval: | I5: Dňa | J5: 10.09.2020
B6: Odberateľ: Obec Soľ
B7: IČO: | G7: DIČ:
B8: Projektant:
B9: IČO: | G9: DIČ:
B10: Dodávateľ:
B11: IČO: | G11: DIČ:
B15: A | C15: ZRN | D15: Montáž | E15: Materiál | F15: ZRN spolu | G15: B | H15: Ďalšie náklady
B16: 1 | C16: HSV | D16: ='Rekap 6037'!B18 -> 0 | E16: ='Rekap 6037'!C18 -> 0 | F16: ='Rekap 6037'!D18 -> 0 | G16: 6 | J16: 0
B17: 2 | C17: PSV | G17: 7 | H17: Kompletačná činnosť | J17: ='SO 6037'!Z99 -> 0
B18: 3 | C18: MONT | D18: ='Rekap 6037'!B22 -> 0 | E18: ='Rekap 6037'!C22 -> 0 | F18: ='Rekap 6037'!D22 -> 0 | G18: 8 | H18: HZS | J18: 0
B19: 4 | C19: VRN | G19: 9
B20: 5 | C20: Spolu | F20: =SUM(F16:F19) -> 0 | G20: 10 | H20: Spolu | J20: =SUM(J16:J19) -> 0
B21: C | C21: VRN | G21: D | H21: VRN
B22: 11 | C22: Zariadenie staveniska | E22: 0% z [H+P+M] | F22: =((F16*U22*0)+(F17*V22*0)+(F18*W22*0))/100 -> 0 | G22: 16 | H22: Sťažené podmienky dopravy | I22: 0% z [H+P+M] | J22: =((F16*X22*0)+(F17*Y22*0)+(F18*Z22*0))/100 -> 0 | U22: 1 | V22: 1 | W22: 1 | X22: 1 | Y22: 1 | Z22: 1
B23: 12 | C23: Sťažené výrobné podmienky | E23: 0% z [H+P] | F23: =((F16*U23*0)+(F17*V23*0)+(F18*W23*0))/100 -> 0 | G23: 17 | H23: Horské oblasti | I23: 0% z [H+P+M] | J23: =((F16*X23*0)+(F17*Y23*0)+(F18*Z23*0))/100 -> 0 | U23: 1 | V23: 1 | W23: 0 | X23: 1 | Y23: 1 | Z23: 1
B24: 13 | C24: Prevádzkové vplyvy | E24: 0% z [H+P+M] | F24: =((F16*U24*0)+(F17*V24*0)+(F18*W24*0))/100 -> 0 | G24: 18 | H24: Mimostavenisková doprava | I24: 0% z [H+P] | J24: =((F16*X24*0)+(F17*Y24*0)+(F18*Z24*0))/100 -> 0 | U24: 1 | V24: 1 | W24: 1 | X24: 1 | Y24: 1 | Z24: 0
B25: 14 | G25: 19
B26: 15 | G26: 20 | H26: Spolu | J26: =SUM(J22:J25)+SUM(F22:F25) -> 0
C27: Projektant,rozpočtár | G27: E | H27: Celkové náklady
G28: 21 | H28: Súčet riadkov 5,10,15,20 | J28: =F20+J20+F26+J26 -> 0
G29: 22 | H29: DPH 20% z | I29: =J28-SUM('SO 6037'!K9:'SO 6037'!K98) -> 0 | J29: =ROUND(((ROUND(I29,3)*20)*1/100),2) -> 0
G30: 23 | H30: DPH 0% z | I30: =SUM('SO 6037'!K9:'SO 6037'!K98) -> 0 | J30: =ROUND(((ROUND(I30,3)*0)/100),2) -> 0
G31: 24 | H31: Spolu v EUR | J31: =SUM(J28:J30) -> 0
G32: F
D33: Odberateľ | G33: 26 | H33: Dodávateľ

Sheet Rekap 6037
A1: Odberateľ: Obec Soľ | E1: Spracoval: | W1: 30.126
A2: Projektant: | E2: Ks:
A3: Dodávateľ: | E3: Dátum: 10.09.2020
A4: Stavba: Kanalizácia a ČOV Soľ, 2 et.- Rozširenie kanalizácie Soľ
A5: Objekt: SO1.1 Kanalizačná sieť Soľ
A8: Prehľad rozpočtových nákladov
A9: Oddiel | B9: Montáž | C9: Materiál | D9: Spolu | E9: Hmotnosť (T) | F9: Suť (T)
A10: Práce HSV
A11: ZEMNÉ PRÁCE | B11: ='SO 6037'!L38 -> 0 | C11: ='SO 6037'!M38 -> 0 | D11: ='SO 6037'!I38 -> 0 | E11: ='SO 6037'!S38 -> 3.135 | F11: ='SO 6037'!V38 -> 0
A12: ZVISLÉ KONŠTRUKCIE | B12: ='SO 6037'!L42 -> 0 | C12: ='SO 6037'!M42 -> 0 | D12: ='SO 6037'!I42 -> 0 | E12: ='SO 6037'!S42 -> 0 | F12: ='SO 6037'!V42 -> 0
A13: VODOROVNÉ KONŠTRUKCIE | B13: ='SO 6037'!L49 -> 0 | C13: ='SO 6037'!M49 -> 0 | D13: ='SO 6037'!I49 -> 0 | E13: ='SO 6037'!S49 -> 48.945 | F13: ='SO 6037'!V49 -> 0
A14: SPEVNENÉ PLOCHY | B14: ='SO 6037'!L55 -> 0 | C14: ='SO 6037'!M55 -> 0 | D14: ='SO 6037'!I55 -> 0 | E14: ='SO 6037'!S55 -> 121.612 | F14: ='SO 6037'!V55 -> 0
A15: POTRUBNÉ ROZVODY | B15: ='SO 6037'!L77 -> 0 | C15: ='SO 6037'!M77 -> 0 | D15: ='SO 6037'!I77 -> 0 | E15: ='SO 6037'!S77 -> 14.383 | F15: ='SO 6037'!V77 -> 0
A16: OSTATNÉ PRÁCE | B16: ='SO 6037'!L85 -> 0 | C16: ='SO 6037'!M85 -> 0 | D16: ='SO 6037'!I85 -> 0 | E16: ='SO 6037'!S85 -> 19.96 | F16: ='SO 6037'!V85 -> 0
A17: PRESUNY HMÔT | B17: ='SO 6037'!L89 -> 0 | C17: ='SO 6037'!M89 -> 0 | D17: ='SO 6037'!I89 -> 0 | E17: ='SO 6037'!S89 -> 0 | F17: ='SO 6037'!V89 -> 0
A18: Práce HSV | B18: ='SO 6037'!L91 -> 0 | C18: ='SO 6037'!M91 -> 0 | D18: ='SO 6037'!I91 -> 0 | E18: ='SO 6037'!S91 -> 208.035 | F18: ='SO 6037'!V91 -> 0
A20: Montážne práce
A21: M-23 MONTÁŽ PRIEMYSELNÉHO POTRUBIA | B21: ='SO 6037'!L96 -> 0 | C21: ='SO 6037'!M96 -> 0 | D21: ='SO 6037'!I96 -> 0 | E21: ='SO 6037'!S96 -> 0.609 | F21: ='SO 6037'!V96 -> 0
A22: Montážne práce | B22: ='SO 6037'!L98 -> 0 | C22: ='SO 6037'!M98 -> 0 | D22: ='SO 6037'!I98 -> 0 | E22: ='SO 6037'!S98 -> 0.609 | F22: ='SO 6037'!V98 -> 0
A24: Celkom v EUR | B24: ='SO 6037'!L99 -> 0 | C24: ='SO 6037'!M99 -> 0 | D24: ='SO 6037'!I99 -> 0 | E24: ='SO 6037'!S99 -> 208.644 | F24: ='SO 6037'!V99 -> 0

Sheet SO 6037
B1: Odberateľ: Obec Soľ | I1: Spracoval: | W1: 30.126
B2: Projektant: | I2: Ks:
B3: Dodávateľ: | I3: Dátum: | P3: 10.09.2020
B4: Zákazka Kanalizácia a ČOV Soľ, 2 et.- Rozširenie kanalizácie Soľ
B5: Objekt Objekt: SO1.1 Kanalizačná sieť Soľ
B7: Prehľad rozpočtových nákladov
A8: Por.č. | B8: Cenník | C8: Kód položky | D8: Názov | E8: Mj | F8: Množstvo | G8: Montáž | H8: Materiál | I8: Cena celkom | P8: Hmotnosť/Mj | S8: Hmotnosť | V8: Suť
D9: Práce HSV
C10: 1 | D10: ZEMNÉ PRÁCE
B11: 1/A 1 | C11: 115001102 | D11: Odvedenie vody potrubím pri priemere potrubia DN nad 100 do 150 | E11: M | F11: 40 | G11: 0 | H11: 0 | I11: =ROUND(F11*(G11+H11),3) -> 0 | J11: =ROUND(F11*(N11),3) -> 533.8 | K11: =ROUND(F11*(O11),3) -> 0 | L11: =ROUND(F11*(G11),3) -> 0 | M11: =ROUND(F11*(H11),3) -> 0 | N11: 13.345 | P11: 0.00794 | R11: 0.00794 | S11: =ROUND(F11*(P11),3) -> 0.318 | Z11: 0
B12: 1/A 1 | C12: 115101201 | D12: Čerpanie vody do 10 m s priemerným prítokom litrov za minútu do 500 l | E12: HOD | F12: 40 | G12: 0 | H12: 0 | I12: =ROUND(F12*(G12+H12),3) -> 0 | J12: =ROUND(F12*(N12),3) -> 139.88 | K12: =ROUND(F12*(O12),3) -> 0 | L12: =ROUND(F12*(G12),3) -> 0 | M12: =ROUND(F12*(H12),3) -> 0 | N12: 3.497 | S12: =ROUND(F12*(P12),3) -> 0 | Z12: 0
B13: 1/A 1 | C13: 115101301 | D13: Pohotovosť záložnej čerpacej súpravy pre výšku do 10 m, s priemerným prítokom do 500 l/min. | E13: DEŇ | F13: 4 | G13: 0 | H13: 0 | I13: =ROUND(F13*(G13+H13),3) -> 0 | J13: =ROUND(F13*(N13),3) -> 10.548 | K13: =ROUND(F13*(O13),3) -> 0 | L13: =ROUND(F13*(G13),3) -> 0 | M13: =ROUND(F13*(H13),3) -> 0 | N13: 2.637 | S13: =ROUND(F13*(P13),3) -> 0 | Z13: 0
B14: 1/A 1 | C14: 119001412 | D14: Dočasné zaistenie podzemného potrubia DN 200-500 | E14: M | F14: 65 | G14: 0 | H14: 0 | I14: =ROUND(F14*(G14+H14),3) -> 0 | J14: =ROUND(F14*(N14),3) -> 1108.9 | K14: =ROUND(F14*(O14),3) -> 0 | L14: =ROUND(F14*(G14),3) -> 0 | M14: =ROUND(F14*(H14),3) -> 0 | N14: 17.06 | P14: 0.01271 | R14: 0.01271 | S14: =ROUND(F14*(P14),3) -> 0.826 | Z14: 0
B15: 1/A 1 | C15: 120001101 | D15: Príplatok k cenám výkopov za sťaženie výkopu v blízkosti podzemného vedenia alebo výbušnín | E15: M3 | F15: 143 | G15: 0 | H15: 0 | I15: =ROUND(F15*(G15+H15),3) -> 0 | J15: =ROUND(F15*(N15),3) -> 2180.035 | K15: =ROUND(F15*(O15),3) -> 0 | L15: =ROUND(F15*(G15),3) -> 0 | M15: =ROUND(F15*(H15),3) -> 0 | N15: 15.245 | S15: =ROUND(F15*(P15),3) -> 0 | Z15: 0
B16: 1/A 1 | C16: 130201001 | D16: Výkop jamy a ryhy v obmedzenom priestore horn. tr.3 ručne | E16: M3 | F16: 44.49 | G16: 0 | H16: 0 | I16: =ROUND(F16*(G16+H16),3) -> 0 | J16: =ROUND(F16*(N16),3) -> 1710.685 | K16: =ROUND(F16*(O16),3) -> 0 | L16: =ROUND(F16*(G16),3) -> 0 | M16: =ROUND(F16*(H16),3) -> 0 | N16: 38.451 | S16: =ROUND(F16*(P16),3) -> 0 | Z16: 0
B17: 1/A 1 | C17: 132201202 | D17: Výkop ryhy šírky 600-2000mm horn.3 od 100 do 1000 m3 | E17: M3 | F17: 491.76 | G17: 0 | H17: 0 | I17: =ROUND(F17*(G17+H17),3) -> 0 | J17: =ROUND(F17*(N17),3) -> 4560.09 | K17: =ROUND(F17*(O17),3) -> 0 | L17: =ROUND(F17*(G17),3) -> 0 | M17: =ROUND(F17*(H17),3) -> 0 | N17: 9.273 | S17: =ROUND(F17*(P17),3) -> 0 | Z17: 0
B18: 1/A 1 | C18: 132201209 | D18: Hĺbenie rýh š. nad 600 do 2 000 mm zapažených i nezapažených, s urovnaním dna. Príplatok k cenám za lepivosť horniny 3 | E18: M3 | F18: 245.88 | G18: 0 | H18: 0 | I18: =ROUND(F18*(G18+H18),3) -> 0 | J18: =ROUND(F18*(N18),3) -> 224.98 | K18: =ROUND(F18*(O18),3) -> 0 | L18: =ROUND(F18*(G18),3) -> 0 | M18: =ROUND(F18*(H18),3) -> 0 | N18: 0.915 | S18: =ROUND(F18*(P18),3) -> 0 | Z18: 0
B19: 1/A 1 | C19: 133201102 | D19: Výkop šachty zapaženej, hornina 3 nad 100 m3 | E19: M3 | F19: 51.48 | G19: 0 | H19: 0 | I19: =ROUND(F19*(G19+H19),3) -> 0 | J19: =ROUND(F19*(N19),3) -> 1292.457 | K19: =ROUND(F19*(O19),3) -> 0 | L19: =ROUND(F19*(G19),3) -> 0 | M19: =ROUND(F19*(H19),3) -> 0 | N19: 25.106 | S19: =ROUND(F19*(P19),3) -> 0 | Z19: 0
B20: 1/A 1 | C20: 133201109 | D20: Hĺbenie šachiet zapažených i nezapažených. Príplatok k cenám za lepivosť horniny 3 | E20: M3 | F20: 25.74 | G20: 0 | H20: 0 | I20: =ROUND(F20*(G20+H20),3) -> 0 | J20: =ROUND(F20*(N20),3) -> 141.544 | K20: =ROUND(F20*(O20),3) -> 0 | L20: =ROUND(F20*(G20),3) -> 0 | M20: =ROUND(F20*(H20),3) -> 0 | N20: 5.499 | S20: =ROUND(F20*(P20),3) -> 0 | Z20: 0
B21: 1/A 1 | C21: 141701102 | D21: Pretláčanie rúry v hornina tr. 1-4 v hĺbky od 6 m dĺžky do 35 m vonkajšieho priemeru nad 200 do 500 mm | E21: M | F21: 24 | G21: 0 | H21: 0 | I21: =ROUND(F21*(G21+H21),3) -> 0 | J21: =ROUND(F21*(N21),3) -> 10541.664 | K21: =ROUND(F21*(O21),3) -> 0 | L21: =ROUND(F21*(G21),3) -> 0 | M21: =ROUND(F21*(H21),3) -> 0 | N21: 439.236 | P21: 0.01752 | R21: 0.01752 | S21: =ROUND(F21*(P21),3) -> 0.42 | Z21: 0
B22: 1/A 1 | C22: 151101102 | D22: Paženie a rozopretie stien rýh pre podzemné vedenie, príložné do 4 m | E22: M2 | F22: 963.6 | G22: 0 | H22: 0 | I22: =ROUND(F22*(G22+H22),3) -> 0 | J22: =ROUND(F22*(N22),3) -> 6402.158 | K22: =ROUND(F22*(O22),3) -> 0 | L22: =ROUND(F22*(G22),3) -> 0 | M22: =ROUND(F22*(H22),3) -> 0 | N22: 6.644 | P22: 0.00085 | R22: 0.00085 | S22: =ROUND(F22*(P22),3) -> 0.819 | Z22: 0
B23: 1/A 1 | C23: 151101112 | D23: Odstránenie paženia rýh pre podzemné vedenie, príložné hĺbky do 4 m | E23: M2 | F23: 963.6 | G23: 0 | H23: 0 | I23: =ROUND(F23*(G23+H23),3) -> 0 | J23: =ROUND(F23*(N23),3) -> 3618.318 | K23: =ROUND(F23*(O23),3) -> 0 | L23: =ROUND(F23*(G23),3) -> 0 | M23: =ROUND(F23*(H23),3) -> 0 | N23: 3.755 | S23: =ROUND(F23*(P23),3) -> 0 | Z23: 0
B24: 1/A 1 | C24: 151101201 | D24: Paženie stien bez rozopretia alebo vzopretia, príložné hĺbky do 4m | E24: M2 | F24: 100.8 | G24: 0 | H24: 0 | I24: =ROUND(F24*(G24+H24),3) -> 0 | J24: =ROUND(F24*(N24),3) -> 320.645 | K24: =ROUND(F24*(O24),3) -> 0 | L24: =ROUND(F24*(G24),3) -> 0 | M24: =ROUND(F24*(H24),3) -> 0 | N24: 3.181 | P24: 0.0007 | R24: 0.0007 | S24: =ROUND(F24*(P24),3) -> 0.071 | Z24: 0
B25: 1/A 1 | C25: 151101211 | D25: Odstránenie paženia stien príložné hĺbky do 4 m | E25: M2 | F25: 100.8 | G25: 0 | H25: 0 | I25: =ROUND(F25*(G25+H25),3) -> 0 | J25: =ROUND(F25*(N25),3) -> 109.872 | K25: =ROUND(F25*(O25),3) -> 0 | L25: =ROUND(F25*(G25),3) -> 0 | M25: =ROUND(F25*(H25),3) -> 0 | N25: 1.09 | S25: =ROUND(F25*(P25),3) -> 0 | Z25: 0
B26: 1/A 1 | C26: 162301102 | D26: Vodorovné premiestnenie výkopku tr.1-4, do 1000 m | E26: M3 | F26: 42.742 | G26: 0 | H26: 0 | I26: =ROUND(F26*(G26+H26),3) -> 0 | J26: =ROUND(F26*(N26),3) -> 160.624 | K26: =ROUND(F26*(O26),3) -> 0 | L26: =ROUND(F26*(G26),3) -> 0 | M26: =ROUND(F26*(H26),3) -> 0 | N26: 3.758 | S26: =ROUND(F26*(P26),3) -> 0 | Z26: 0
B27: 1/A 1 | C27: 171201101 | D27: Uloženie sypaniny do násypov s rozprestretím sypaniny vo vrstvách a s hrubým urovnaním nezhutnených | E27: M3 | F27: 42.742 | G27: 0 | H27: 0 | I27: =ROUND(F27*(G27+H27),3) -> 0 | J27: =ROUND(F27*(N27),3) -> 45.05 | K27: =ROUND(F27*(O27),3) -> 0 | L27: =ROUND(F27*(G27),3) -> 0 | M27: =ROUND(F27*(H27),3) -> 0 | N27: 1.054 | S27: =ROUND(F27*(P27),3) -> 0 | Z27: 0
B28: 1/A 1 | C28: 174101101 | D28: Zásyp sypaninou so zhutnením jám, šachiet, rýh, zárezov alebo okolo objektov v týchto vykopávkach | E28: M3 | F28: 379.34 | G28: 0 | H28: 0 | I28: =ROUND(F28*(G28+H28),3) -> 0 | J28: =ROUND(F28*(N28),3) -> 1406.972 | K28: =ROUND(F28*(O28),3) -> 0 | L28: =ROUND(F28*(G28),3) -> 0 | M28: =ROUND(F28*(H28),3) -> 0 | N28: 3.709 | S28: =ROUND(F28*(P28),3) -> 0 | Z28: 0
B29: 1/A 1 | C29: 175101101 | D29: Obsyp potrubia sypaninou z vhodných hornín 1 až 4 bez prehodenia sypaniny | E29: M3 | F29: 88.33 | G29: 0 | H29: 0 | I29: =ROUND(F29*(G29+H29),3) -> 0 | J29: =ROUND(F29*(N29),3) -> 1380.598 | K29: =ROUND(F29*(O29),3) -> 0 | L29: =ROUND(F29*(G29),3) -> 0 | M29: =ROUND(F29*(H29),3) -> 0 | N29: 15.63 | S29: =ROUND(F29*(P29),3) -> 0 | Z29: 0
B30: 1/A 1 | C30: 175101109 | D30: Obsyp potrubia sypaninou z vhodných hornín 1 až 4. Príplatok k cene za prehodenie sypaniny | E30: M3 | F30: 88.33 | G30: 0 | H30: 0 | I30: =ROUND(F30*(G30+H30),3) -> 0 | J30: =ROUND(F30*(N30),3) -> 565.312 | K30: =ROUND(F30*(O30),3) -> 0 | L30: =ROUND(F30*(G30),3) -> 0 | M30: =ROUND(F30*(H30),3) -> 0 | N30: 6.4 | S30: =ROUND(F30*(P30),3) -> 0 | Z30: 0
B31: 1/A 1 | C31: 175101201 | D31: Obsyp objektov sypaninou z vhodných hornín 1 až 4 bez prehodenia sypaniny | E31: M3 | F31: 7.5 | G31: 0 | H31: 0 | I31: =ROUND(F31*(G31+H31),3) -> 0 | J31: =ROUND(F31*(N31),3) -> 176.723 | K31: =ROUND(F31*(O31),3) -> 0 | L31: =ROUND(F31*(G31),3) -> 0 | M31: =ROUND(F31*(H31),3) -> 0 | N31: 23.563 | S31: =ROUND(F31*(P31),3) -> 0 | Z31: 0
B32: 1/A 1 | C32: 175101209 | D32: Obsyp objektov sypaninou z vhodných hornín 1 až 4. Príplatok k cene za prehodenie sypaniny | E32: M3 | F32: 7.5 | G32: 0 | H32: 0 | I32: =ROUND(F32*(G32+H32),3) -> 0 | J32: =ROUND(F32*(N32),3) -> 50.91 | K32: =ROUND(F32*(O32),3) -> 0 | L32: =ROUND(F32*(G32),3) -> 0 | M32: =ROUND(F32*(H32),3) -> 0 | N32: 6.788 | S32: =ROUND(F32*(P32),3) -> 0 | Z32: 0
B33: 221/B 1 | C33: 113107122 | D33: Odstránenie krytu v ploche do 200 m2 z kameniva hrubého drveného, hr.100 do 200 mm, -0,23500t | E33: M2 | F33: 160.6 | G33: 0 | H33: 0 | I33: =ROUND(F33*(G33+H33),3) -> 0 | J33: =ROUND(F33*(N33),3) -> 1550.914 | K33: =ROUND(F33*(O33),3) -> 0 | L33: =ROUND(F33*(G33),3) -> 0 | M33: =ROUND(F33*(H33),3) -> 0 | N33: 9.657 | S33: =ROUND(F33*(P33),3) -> 0 | Z33: 0
B34: 221/B 1 | C34: 113107131 | D34: Odstránenie krytu v ploche do 200 m2 z betónu prostého, hr. vrstvy do 150 mm, -0,22500t | E34: M2 | F34: 160.6 | G34: 0 | H34: 0 | I34: =ROUND(F34*(G34+H34),3) -> 0 | J34: =ROUND(F34*(N34),3) -> 3246.368 | K34: =ROUND(F34*(O34),3) -> 0 | L34: =ROUND(F34*(G34),3) -> 0 | M34: =ROUND(F34*(H34),3) -> 0 | N34: 20.214 | S34: =ROUND(F34*(P34),3) -> 0 | Z34: 0
B35: 221/B 1 | C35: 113107142 | D35: Odstránenie krytu asfaltového v ploche do 200 m2, hr.nad 50 do 100 mm, -0,18100t | E35: M2 | F35: 160.6 | G35: 0 | H35: 0 | I35: =ROUND(F35*(G35+H35),3) -> 0 | J35: =ROUND(F35*(N35),3) -> 912.85 | K35: =ROUND(F35*(O35),3) -> 0 | L35: =ROUND(F35*(G35),3) -> 0 | M35: =ROUND(F35*(H35),3) -> 0 | N35: 5.684 | S35: =ROUND(F35*(P35),3) -> 0 | Z35: 0
B36: 221/B 1 | C36: 113202111 | D36: Vytrhanie obrúb kamenných, s vybúraním lôžka, z krajníkov alebo obrubníkov stojatých, -0,14500t | E36: M | F36: 85 | G36: 0 | H36: 0 | I36: =ROUND(F36*(G36+H36),3) -> 0 | J36: =ROUND(F36*(N36),3) -> 186.66 | K36: =ROUND(F36*(O36),3) -> 0 | L36: =ROUND(F36*(G36),3) -> 0 | M36: =ROUND(F36*(H36),3) -> 0 | N36: 2.196 | S36: =ROUND(F36*(P36),3) -> 0 | Z36: 0
B37: S/S20 | C37: 2861132000 | D37: HDPE rúry tlakové pre rozvod vody - PE 100 / PN 16 315x28,6 x L | E37: M | F37: 26.4 | G37: 0 | H37: 0 | I37: =ROUND(F37*(G37+H37),3) -> 0 | J37: =ROUND(F37*(N37),3) -> 2288.299 | K37: =ROUND(F37*(O37),3) -> 0 | L37: =ROUND(F37*(G37),3) -> 0 | M37: =ROUND(F37*(H37),3) -> 0 | N37: 86.678 | P37: 0.0258 | R37: 0.0258 | S37: =ROUND(F37*(P37),3) -> 0.681 | Z37: 0
C38: 1 | D38: ZEMNÉ PRÁCE | G38: =ROUND((SUM(L10:L37))/1,3) -> 0 | H38: =ROUND((SUM(M10:M37))/1,3) -> 0 | I38: =ROUND((SUM(I10:I37))/1,3) -> 0 | L38: =ROUND((SUM(L10:L37))/1,3) -> 0 | M38: =ROUND((SUM(M10:M37))/1,3) -> 0 | S38: =ROUND((SUM(S10:S37))/1,3) -> 3.135 | V38: =ROUND((SUM(V10:V37))/1,3) -> 0
C40: 3 | D40: ZVISLÉ KONŠTRUKCIE
B41: 271/A 3 | C41: 359901111 | D41: Vyčistenie stôk akejkoľvek výšky | E41: M | F41: 170 | G41: 0 | H41: 0 | I41: =ROUND(F41*(G41+H41),3) -> 0 | J41: =ROUND(F41*(N41),3) -> 534.31 | K41: =ROUND(F41*(O41),3) -> 0 | L41: =ROUND(F41*(G41),3) -> 0 | M41: =ROUND(F41*(H41),3) -> 0 | N41: 3.143 | S41: =ROUND(F41*(P41),3) -> 0 | Z41: 0
C42: 3 | D42: ZVISLÉ KONŠTRUKCIE | G42: =ROUND((SUM(L40:L41))/1,3) -> 0 | H42: =ROUND((SUM(M40:M41))/1,3) -> 0 | I42: =ROUND((SUM(I40:I41))/1,3) -> 0 | L42: =ROUND((SUM(L40:L41))/1,3) -> 0 | M42: =ROUND((SUM(M40:M41))/1,3) -> 0 | S42: =ROUND((SUM(S40:S41))/1,3) -> 0 | V42: =ROUND((SUM(V40:V41))/1,3) -> 0
...
